BEGIN:VCALENDAR
VERSION:2.0
PRODID:-//Discover Salisbury - ECPv4.6.11//NONSGML v1.0//EN
CALSCALE:GREGORIAN
METHOD:PUBLISH
X-WR-CALNAME:Discover Salisbury
X-ORIGINAL-URL:http://discoversalisbury.com.au
X-WR-CALDESC:Events for Discover Salisbury
BEGIN:VEVENT
DTSTART;TZID=Australia/Adelaide:20180208T090000
DTEND;TZID=Australia/Adelaide:20180309T170000
DTSTAMP:20180224T132040
CREATED:20180115T003039Z
LAST-MODIFIED:20180209T024008Z
UID:1537-1518080400-1520614800@discoversalisbury.com.au
SUMMARY:Fragments Exhibition
DESCRIPTION:FREE. Starts: 8 February 2018. Opening: 23 February 2018. \nThe exhibition Fragments explores specific themes of Identity through the lens of three different artists: Riaghan Waters\, Thomas Readett and Alex M. Beckinsale. \nThe exploration of how our personal identity is shaped by influences such as the knowledge of our ancestors and their cultural narratives. How psychological issues we battle in our own heads can lead to illness and mould the way we express ourselves. Works based on a range of old snapshot photography investigating the quiet and occasionally eerie moments\, that these images capture. \n3rd March – 10:00am – 1:00pm: Investigating mixed media approaches to figurative art and portraiture – Alex\n3rd March – 2:00pm – 5:00pm: A Monochromatic approach to Portraiture (age 15+ only) – Riaghan\n4th March – 2:00pm – 5:00pm: Portraiture through Charcoal and Conte’ – Riaghan \n  \n
URL:http://discoversalisbury.com.au/event/fragments-exhibition/
LOCATION:12 James Street\, Salisbury\, South Australia\, 5108\, Australia
CATEGORIES:art,event,exhibition
ATTACH;FMTTYPE=image/png:http://discoversalisbury.com.au/wp-content/uploads/2018/01/SSG-2018-Fragments-Discover-Salisbury-Banner.png
END:VEVENT
BEGIN:VEVENT
DTSTART;TZID=Australia/Adelaide:20180223T090000
DTEND;TZID=Australia/Adelaide:20180304T210000
DTSTAMP:20180224T132040
CREATED:20171206T004332Z
LAST-MODIFIED:20180202T060745Z
UID:1388-1519376400-1520197200@discoversalisbury.com.au
SUMMARY:Salisbury Secret Garden
DESCRIPTION:Kicking off on Friday 23 February\, the 2018 Salisbury Secret Garden promises to be the best yet! With more than 50 free and ticketed performances scheduled across 10 days\, patrons will be offered a great range of affordable ticketed shows including comedy\, high quality music\, musicals and stage theatre. \nThe 2018 program will be more accessible than ever before with shows scheduled throughout the City of Salisbury including Ingle Farm\, Pooraka\, Mawson Lakes and of course the Secret Garden itself in Salisbury City Centre. \nKeep an eye out for sneak previews of the 2018 shows at Parabanks Shopping Centre\, Ingle Farm Shopping Centre and Hollywood Plaza in the lead up to Salisbury Secret Garden’s Opening Night. \nFor further details about any of the FREE or ticketed events\, or to book tickets ‘Like’ us on Facebook at www.facebook.com/DiscoverSalisbury. \nMake sure you also follow us on Instagram and Twitter for updates! You can also purchase Secret Garden tickets by clicking this button: \n \nView the full program below or download it here:\n \n
URL:http://discoversalisbury.com.au/event/salisbury-secret-garden/
LOCATION:John Street\, Salisbury\, South Australia\, 5108\, Australia
CATEGORIES:event,Salisbury Secret Garden,Secret Garden
ATTACH;FMTTYPE=image/png:http://discoversalisbury.com.au/wp-content/uploads/2017/12/SSG-2018-DiscoverSalisbury-Slider-Banner.png
END:VEVENT
BEGIN:VEVENT
DTSTART;TZID=Australia/Adelaide:20180225T140000
DTEND;TZID=Australia/Adelaide:20180225T160000
DTSTAMP:20180224T132040
CREATED:20180108T231345Z
LAST-MODIFIED:20180115T003716Z
UID:1490-1519567200-1519574400@discoversalisbury.com.au
SUMMARY:Salisbury Poetry Slam
DESCRIPTION:$100 First Prize\n$30 Second Prize\n$20 Third Prize \nOrganised by Friendly Street Poets and MC’d by Nigel Ford. \nCome along and compete for prize money and bragging rights. Or just kick back and enjoy the spoken word slammers. \nFREE entry. \n
URL:http://discoversalisbury.com.au/event/salisbury-poetry-slam/
LOCATION:2-8 Main Street\, Mawson Lakes\, South Australia\, 5095\, Australia
GEO:-34.810765;138.6173041
X-APPLE-STRUCTURED-LOCATION;VALUE=URI;X-ADDRESS=2-8 Main Street Mawson Lakes South Australia 5095 Australia;X-APPLE-RADIUS=500;X-TITLE=2-8 Main Street:geo:138.6173041,-34.810765
CATEGORIES:event,Mawson Lakes,poetry,poetry slam,Salisbury Secret Garden,Secret Garden,The Mawson Centre
ATTACH;FMTTYPE=image/png:http://discoversalisbury.com.au/wp-content/uploads/2018/01/SSG-2018-Salisbury-Poetry-Slam-Discover-Salisbury-Banner.png
END:VEVENT
BEGIN:VEVENT
DTSTART;TZID=Australia/Adelaide:20180225T160000
DTEND;TZID=Australia/Adelaide:20180225T180000
DTSTAMP:20180224T132040
CREATED:20180109T000144Z
LAST-MODIFIED:20180115T034431Z
UID:1495-1519574400-1519581600@discoversalisbury.com.au
SUMMARY:Songambele International Gospel Band
DESCRIPTION:Be entertained by an exciting blend of Gospel music and dance. \nTickets available by calling 08 8406 8484. \nCost: $8 to $25 \n
URL:http://discoversalisbury.com.au/event/songambele-international-gospel-band/
LOCATION:90 Kings Road\, Parafield Gardens\, South Australia\, 5107\, Australia
CATEGORIES:event,live music
ATTACH;FMTTYPE=image/png:http://discoversalisbury.com.au/wp-content/uploads/2018/01/SSG-2018-Songambele-Discover-Salisbury-Banner.png
END:VEVENT
BEGIN:VEVENT
DTSTART;TZID=Australia/Adelaide:20180228T090000
DTEND;TZID=Australia/Adelaide:20180228T170000
DTSTAMP:20180224T132040
CREATED:20180108T004101Z
LAST-MODIFIED:20180206T004852Z
UID:1448-1519808400-1519837200@discoversalisbury.com.au
SUMMARY:Defying Gravity (Poetry Reading)
DESCRIPTION:An afternoon of humour and levity through words and music. Guest artists interspersed with open mic. \nThis event is FREE\, however please click ‘Going’ on our Facebook event page: https://www.facebook.com/events/891597691016210 so we know that you’re joining us! \n  \n  \n  \n
URL:http://discoversalisbury.com.au/event/defying-gravity/
LOCATION:55 John Street\, Salisbury\, South Australia\, 5108\, Australia
ATTACH;FMTTYPE=image/png:http://discoversalisbury.com.au/wp-content/uploads/2018/01/SSG-2018-Defying-Gravity-Discover-Salisbury-Banner.png
END:VEVENT
BEGIN:VEVENT
DTSTART;TZID=Australia/Adelaide:20180301T190000
DTEND;TZID=Australia/Adelaide:20180301T210000
DTSTAMP:20180224T132040
CREATED:20180109T001716Z
LAST-MODIFIED:20180115T034747Z
UID:1498-1519930800-1519938000@discoversalisbury.com.au
SUMMARY:Ashland Falls
DESCRIPTION:Salisbury Youth Performing Arts Group are back\, putting on another spectacular Salisbury Secret Garden Fringe Show in 2018. \nAshland Falls is presented by SpaceTime Performing Arts. \nA school receives a mysterious script about a girl who died long ago. The director disappears. A new director arrives just in time and knows all about the story of the play. In fact\, they seem to know it too well. Are the students too wrapped up in miscues\, awful accents\, and stolen boyfriends to notice? Revenge is coming. Who will pay the price? \nFull Price – $15\nConcession $12\nFamily $38 \n \n
URL:http://discoversalisbury.com.au/event/ashland-falls/
LOCATION:17-19 Wiltshire Street\, Salisbury\, South Australia\, 5108\, Australia
CATEGORIES:event,Salisbury Secret Garden,Secret Garden,Youth in Salisbury
ATTACH;FMTTYPE=image/png:http://discoversalisbury.com.au/wp-content/uploads/2018/01/SSG-2018-Ashland-Falls-Discover-Salisbury-Banner.png
END:VEVENT
BEGIN:VEVENT
DTSTART;TZID=Australia/Adelaide:20180302T163000
DTEND;TZID=Australia/Adelaide:20180302T220000
DTSTAMP:20180224T132040
CREATED:20180109T233537Z
LAST-MODIFIED:20180214T013050Z
UID:1513-1520008200-1520028000@discoversalisbury.com.au
SUMMARY:SHOWCASE - Salisbury Secret Garden
DESCRIPTION:A fun filled evening with so much for the family. With MANE headlining the night\, join us for live music\, performances and celebrate the opening of Salisbury Secret Garden 2018. Entry is FREE\, so bring the entire family for an evening of excitement! \nView the full program below\, or download here. \n \n \n
URL:http://discoversalisbury.com.au/event/showcase-salisbury-secret-garden/
LOCATION:John Street\, Salisbury\, South Australia\, 5108\, Australia
CATEGORIES:event,live music,Salisbury Secret Garden
ATTACH;FMTTYPE=image/png:http://discoversalisbury.com.au/wp-content/uploads/2018/01/SSG-2018-Showcase-Discover-Salisbury-Banner.png
END:VEVENT
BEGIN:VEVENT
DTSTART;TZID=Australia/Adelaide:20180302T193000
DTEND;TZID=Australia/Adelaide:20180302T213000
DTSTAMP:20180224T132040
CREATED:20180108T045824Z
LAST-MODIFIED:20180115T055747Z
UID:1483-1520019000-1520026200@discoversalisbury.com.au
SUMMARY:Joshua Warrior Aboriginal Gigolo
DESCRIPTION:Following a SOLD OUT Adelaide Fringe season in 2017\, the Nunga from Down Under is back to wow the crowd with his show Aboriginal Gigolo. His magical Aboriginal fusion will have you in cramps while his loud rambunctious one liners will finish you off. \nJoshua Warrior is the new face and awesome name in Aboriginal Stand Up Comedy. It’s time to take the nation by storm. \n \n
URL:http://discoversalisbury.com.au/event/joshua-warrior-aboriginal-gigolo/
LOCATION:90 Kings Road\, Parafield Gardens\, South Australia\, 5107\, Australia
ATTACH;FMTTYPE=image/png:http://discoversalisbury.com.au/wp-content/uploads/2018/01/SSG-2018-Aboriginal-Gigolo-Discover-Salisbury-Banner.png
END:VEVENT
BEGIN:VEVENT
DTSTART;TZID=Australia/Adelaide:20180303T103000
DTEND;TZID=Australia/Adelaide:20180303T123000
DTSTAMP:20180224T132040
CREATED:20180108T040513Z
LAST-MODIFIED:20180115T034552Z
UID:1477-1520073000-1520080200@discoversalisbury.com.au
SUMMARY:Ninja Manga
DESCRIPTION:Multi-lingual Ninja\, Jarrod Hoare\, takes you on a high-energy\, family-friendly adventure\, as the mysterious Manga Master transforms his silly stories into Manga Artwork\, LIVE! What will happen..? YOU DECIDE! Be part of the show\, from your seat or on stage! Stories\, Games and lots of Laughs! Every show is NEW! Come in a costume\, get a FREE GIFT! \n \n
URL:http://discoversalisbury.com.au/event/ninja-manga/
LOCATION:2-8 Main Street\, Mawson Lakes\, South Australia\, 5095\, Australia
GEO:-34.810765;138.6173041
X-APPLE-STRUCTURED-LOCATION;VALUE=URI;X-ADDRESS=2-8 Main Street Mawson Lakes South Australia 5095 Australia;X-APPLE-RADIUS=500;X-TITLE=2-8 Main Street:geo:138.6173041,-34.810765
CATEGORIES:event,kids
ATTACH;FMTTYPE=image/png:http://discoversalisbury.com.au/wp-content/uploads/2018/01/SSG-2018-Ninja-Manga-Discover-Salisbury-Banner.png
END:VEVENT
BEGIN:VEVENT
DTSTART;TZID=Australia/Adelaide:20180303T163000
DTEND;TZID=Australia/Adelaide:20180303T223000
DTSTAMP:20180224T132040
CREATED:20170126T043057Z
LAST-MODIFIED:20180216T063342Z
UID:1349-1520094600-1520116200@discoversalisbury.com.au
SUMMARY:SOUNDS IN THE SQUARE - Salisbury Secret Garden
DESCRIPTION:Experience the sounds and atmosphere of Fringe! \nAustralian award winning rock band Jebediah is set to headline this year’s Sounds in the Square at Salisbury Secret Garden on Saturday 3 March! With a career spanning 20 years\, Jebediah have become Australian favourites with 5 albums and 10 hits in triple j‘s Hottest 100. \nOn Saturday 3 March Jebediah will take to the stage for this exclusive one-off Adelaide performance\, as part of the Sounds in the Square event. \n\nWith songs like “She’s Like a Comet”(no 70 2011)\, “Fall Down” (no 28 2001)\, “Leaving Home (no 10. 1997)\, “Animal” (no. 19\, 1999)\, Harpoon (no. 7\, 1998)\, this is the event not to be missed! \nHead along from 4:30pm and be entertained with a full line up including Hen\, Something To Rescue\, Neon Tetra and The New Yorks Band – as well as street performers\, food\, licensed drinks and entertainment. \nSalisbury Secret Garden is proudly brought to you by the City of Salisbury and supported by Channel 9 Adelaide\, Salisbury Business Association\, Salisbury City Centre\, Music SA\, and Parafield Airport. \nThe Salisbury Secret Garden is part of the Bank SA Adelaide Fringe. \n\nA fun family friendly event with market stalls\, food and a range of activities. \nFREE EVENT. Licensed – No BYO. \nDownload the full Secret Garden program or view below:\n \n
URL:http://discoversalisbury.com.au/event/salisbury-secret-garden-sounds-in-the-square/
LOCATION:John Street\, Salisbury\, South Australia\, 5108\, Australia
CATEGORIES:event,live music,Secret Garden
ATTACH;FMTTYPE=image/png:http://discoversalisbury.com.au/wp-content/uploads/2017/12/SSG-2018-Sounds-in-the-Square-Discover-Salisbury-Banner.png
END:VEVENT
BEGIN:VEVENT
DTSTART;TZID=Australia/Adelaide:20180304T120000
DTEND;TZID=Australia/Adelaide:20180304T160000
DTSTAMP:20180224T132040
CREATED:20180102T060511Z
LAST-MODIFIED:20180214T061420Z
UID:1355-1520164800-1520179200@discoversalisbury.com.au
SUMMARY:Family Fun Day - Salisbury Secret Garden
DESCRIPTION:\nDiscover the fun and excitement of Salisbury Secret Garden with free and affordable activities and performances for the whole family. Explore the Square to uncover the secrets and hidden gems. Be entertained by childrens performers\, magicians and acrobats.\n\n\nFREE EVENT.\n\nDownload the program here or view below:\n\n\n \n
URL:http://discoversalisbury.com.au/event/salisbury-secret-garden-family-fun-day/
LOCATION:John Street\, Salisbury\, South Australia\, 5108\, Australia
CATEGORIES:event,Salisbury Secret Garden,Secret Garden
ATTACH;FMTTYPE=image/png:http://discoversalisbury.com.au/wp-content/uploads/2018/01/SSG-2018-Family-Fun-Day-Discover-Salisbury-Banner.png
END:VEVENT
BEGIN:VEVENT
DTSTART;TZID=Australia/Adelaide:20180304T140000
DTEND;TZID=Australia/Adelaide:20180304T160000
DTSTAMP:20180224T132040
CREATED:20180108T232006Z
LAST-MODIFIED:20180115T062304Z
UID:1492-1520172000-1520179200@discoversalisbury.com.au
SUMMARY:About The Legends - The Golden Era of Rock and Roll
DESCRIPTION:Come and join us for a family-friendly fun afternoon of music\, dancing and great Rock n Roll from the golden era of the 50’s and 60’s. This event celebrates the music of the Legends as performed by the Fabulous Buddies Four. Artists featured include Buddy Holly\, Bill Haley\, Johnny Cash\, Elvis Presley\, Cliff Richard\, The Shadows and many many more. Large dance floor is available so come to the party dressed in style and with your dancing shoes on. On the day Food and Drinks will be available for purchase. \nStrictly No BYO. \n \n
URL:http://discoversalisbury.com.au/event/about-the-legends-the-golden-era-of-rock-and-roll/
LOCATION:Orange Avenue\, Salisbury\, South Australia\, 5108\, Australia
CATEGORIES:event,live music,Salisbury Secret Garden,Secret Garden
ATTACH;FMTTYPE=image/png:http://discoversalisbury.com.au/wp-content/uploads/2018/01/SSG-2018-About-The-Legends-Discover-Salisbury-Banner.png
END:VEVENT
BEGIN:VEVENT
DTSTART;TZID=Australia/Adelaide:20180308T073000
DTEND;TZID=Australia/Adelaide:20180308T093000
DTSTAMP:20180224T132040
CREATED:20180213T231619Z
LAST-MODIFIED:20180213T231721Z
UID:1637-1520494200-1520501400@discoversalisbury.com.au
SUMMARY:International Women's Day Breakfast 2018
DESCRIPTION:\nMayor of Salisbury\, Gillian Aldridge invites you to a breakfast to celebrate International Women’s Day. \n\nNow\, more than ever\, there’s a strong call-to-action to press forward and progress gender parity. There’s a call to #PressforProgress motivating and uniting friends\, colleagues and whole communities to think\, act and be gender inclusive. \nJoin us!  $25 per person includes cooked breakfast. \nPURCHASE YOUR TICKETS HERE. \n
URL:http://discoversalisbury.com.au/event/international-womens-day-breakfast-2018/
LOCATION:65 Shepherdson Road\, Parafield Gardens\, South Australia\, 5107\, Australia
CATEGORIES:event,International Women;s Day
ATTACH;FMTTYPE=image/png:http://discoversalisbury.com.au/wp-content/uploads/2018/02/2018-IWD-Discover-Salisbury-Website-Banner.png
END:VEVENT
BEGIN:VEVENT
DTSTART;TZID=Australia/Adelaide:20180427T090000
DTEND;TZID=Australia/Adelaide:20180601T170000
DTSTAMP:20180224T132040
CREATED:20180202T043559Z
LAST-MODIFIED:20180202T043744Z
UID:1614-1524819600-1527872400@discoversalisbury.com.au
SUMMARY:Watershed Art Prize Exhibition
DESCRIPTION:The Watershed Art Prize encourages awareness of water as a precious resource and encourages South Australian artists to explore water conservation and the role it plays in creating a more liveable environment. \nThe City of Salisbury is continually striving to promote sustainable energy saving practices and is actively implementing Australia’s first totally integrated water management plan to efficiently harvest and manage systems for rainwater\, stormwater\, ground water\, recycled waste water and potable water. \nThe Art Prize is supported by major sponsor ICE WaRM (the International Centre of Excellence in Water Resources Management)\, which is an Australian Government initiative providing mentoring\, education and training in water management in Australia and Internationally. The Centre provides a national focus and an international gateway to Australian expertise in water resources management education\, training and research. \nOPEN THURSDAYS & FRIDAYS ONLY. \n
URL:http://discoversalisbury.com.au/event/watershed-art-prize-exhibition/
LOCATION:12 James Street\, Salisbury\, South Australia\, 5108\, Australia
CATEGORIES:art,event,exhibition
ATTACH;FMTTYPE=image/png:http://discoversalisbury.com.au/wp-content/uploads/2018/02/Watershed-Art-Prize-2018-Discover-Salisbury-Web-Banner.png
END:VEVENT
END:VCALENDAR